BEGIN:VCALENDAR
VERSION:2.0
PRODID:-//Tauchschule Walter - ECPv6.15.20//NONSGML v1.0//EN
CALSCALE:GREGORIAN
METHOD:PUBLISH
X-WR-CALNAME:Tauchschule Walter
X-ORIGINAL-URL:https://www.tauchschule-walter.de
X-WR-CALDESC:Veranstaltungen für Tauchschule Walter
REFRESH-INTERVAL;VALUE=DURATION:PT1H
X-Robots-Tag:noindex
X-PUBLISHED-TTL:PT1H
BEGIN:VTIMEZONE
TZID:Europe/Berlin
BEGIN:DAYLIGHT
TZOFFSETFROM:+0100
TZOFFSETTO:+0200
TZNAME:CEST
DTSTART:20250330T010000
END:DAYLIGHT
BEGIN:STANDARD
TZOFFSETFROM:+0200
TZOFFSETTO:+0100
TZNAME:CET
DTSTART:20251026T010000
END:STANDARD
BEGIN:DAYLIGHT
TZOFFSETFROM:+0100
TZOFFSETTO:+0200
TZNAME:CEST
DTSTART:20260329T010000
END:DAYLIGHT
BEGIN:STANDARD
TZOFFSETFROM:+0200
TZOFFSETTO:+0100
TZNAME:CET
DTSTART:20261025T010000
END:STANDARD
BEGIN:DAYLIGHT
TZOFFSETFROM:+0100
TZOFFSETTO:+0200
TZNAME:CEST
DTSTART:20270328T010000
END:DAYLIGHT
BEGIN:STANDARD
TZOFFSETFROM:+0200
TZOFFSETTO:+0100
TZNAME:CET
DTSTART:20271031T010000
END:STANDARD
END:VTIMEZONE
BEGIN:VEVENT
DTSTART;TZID=Europe/Berlin:20260330T190000
DTEND;TZID=Europe/Berlin:20260330T210000
DTSTAMP:20260422T010012
CREATED:20230627T094521Z
LAST-MODIFIED:20260210T092814Z
UID:279991-1774897200-1774904400@www.tauchschule-walter.de
SUMMARY:Open Water Diver Kurs
DESCRIPTION:Alles beginnt mit dem Beginnerkurs\, wie z. B. dem Open Water Diver Kurs. Hier lernst du alle wichtigen Grundbegriffe und Regeln rund um das Tauchen. Dazu gehören unter anderem folgende Punkte: „Was gehört zu einer Tauchausrüstung und wie wird diese benutzt? „Was muss man vor und nach dem Tauchen beachten?“ „Wie verständige ich mich unter Wasser?“                                                              \nVoraussetzungen: Mindestens 15 Jahre alt und den Nachweis über eine gültige Tauchtauglichkeit. \nFolgende Leistungen sind enthalten: 5 Einheiten Theorieausbildung\, Praxisausbildung im Schwimmbad\, 4 Freiwassertauchgänge\, Lehrmaterial\, Brevetierungsgebühr\, komplette Leihausrüstung (außer Füßlinge). 
URL:https://www.tauchschule-walter.de/event/owd-kurs/
LOCATION:Tauchschule Walter\, Johannesstrasse 107\, Bottrop\, NRW\, 46238\, Deutschland
CATEGORIES:Open Water Diver Kurs
ORGANIZER;CN="Andreas Walter":MAILTO:info@tauchschule-walter.de
END:VEVENT
END:VCALENDAR